
BEGIN:VCALENDAR
VERSION:2.0
PRODID:-//Made In Hackney - ECPv6.15.20//NONSGML v1.0//EN
CALSCALE:GREGORIAN
METHOD:PUBLISH
X-WR-CALNAME:Made In Hackney
X-ORIGINAL-URL:https://madeinhackney.org
X-WR-CALDESC:Events for Made In Hackney
REFRESH-INTERVAL;VALUE=DURATION:PT1H
X-Robots-Tag:noindex
X-PUBLISHED-TTL:PT1H
BEGIN:VTIMEZONE
TZID:Europe/London
BEGIN:DAYLIGHT
TZOFFSETFROM:+0000
TZOFFSETTO:+0100
TZNAME:BST
DTSTART:20250330T010000
END:DAYLIGHT
BEGIN:STANDARD
TZOFFSETFROM:+0100
TZOFFSETTO:+0000
TZNAME:GMT
DTSTART:20251026T010000
END:STANDARD
BEGIN:DAYLIGHT
TZOFFSETFROM:+0000
TZOFFSETTO:+0100
TZNAME:BST
DTSTART:20260329T010000
END:DAYLIGHT
BEGIN:STANDARD
TZOFFSETFROM:+0100
TZOFFSETTO:+0000
TZNAME:GMT
DTSTART:20261025T010000
END:STANDARD
BEGIN:DAYLIGHT
TZOFFSETFROM:+0000
TZOFFSETTO:+0100
TZNAME:BST
DTSTART:20270328T010000
END:DAYLIGHT
BEGIN:STANDARD
TZOFFSETFROM:+0100
TZOFFSETTO:+0000
TZNAME:GMT
DTSTART:20271031T010000
END:STANDARD
END:VTIMEZONE
BEGIN:VEVENT
DTSTART;TZID=Europe/London:20260627T110000
DTEND;TZID=Europe/London:20260627T150000
DTSTAMP:20260420T021519
CREATED:20260130T135238Z
LAST-MODIFIED:20260407T155350Z
UID:10001037-1782558000-1782572400@madeinhackney.org
SUMMARY:Masterclass: Plant-based Caribbean Cuisine
DESCRIPTION:Come and experience the vibrant\, comforting\, and deeply flavourful world of Caribbean cooking—plant-based style!\n\n\n\nJoin us for a hands-on masterclass highlighting distinctive\, traditional plant-based Caribbean dishes that are rarely seen in mainstream cooking classes or restaurants. Centered on nourishing\, natural ingredients and bold island flavors\, this experience is ideal for curious food lovers who want to learn authentic techniques and discover recipes rooted in Caribbean home kitchens. \nWhether you’re new to plant-based Caribbean cooking or looking to deepen your skills\, this masterclass is a delicious way to connect with culture\, community\, and seriously good food. \n🌴 Sample Menu:\nSorrel Juice: a refreshing spiced hibiscus drink\, loved across the Caribbean and celebrated for its health-boosting properties \nFry Bakes & Ackee: crispy fried pillows of dough served with golden ackee fruit\, prepared the traditional savory way \nBaigan & Tomato Chokas: roasted aubergine and tomato mashed with chadon beni and Scotch bonnet for a smoky\, punchy relish \nCorn Soup with Pumpkin & Green Bananas: a comforting island classic using green bananas as a savory\, hearty ingredient \nGreen Seasoning: the essential Caribbean herb blend used in countless dishes; we’ll make enough for you to take home \nPone: a traditional cassava and sweet potato pudding\, delicious served hot or cold \nAbout The Chef\, Flo:\nFloella (Flo) Francis is the Community Made Head Chef at Made In Hackney and is cherished and appreciated by all in the MIH family. She has been delivering Caribbean cookery classes and catering private events since 2020. She is passionate about sharing the flavors of her culture and creating welcoming spaces where food brings people together. \nBoth of Flo’s parents were born on the lush tropical island of Dominica\, nestled between Guadeloupe and Martinique. She lived there as a child and continues to return regularly\, staying deeply connected to the island’s food traditions. Flo is excited to share authentic island flavours\, cooking skills and stories with participants\, bringing you even closer to the true taste of Caribbean home cooking. \nNote: This is a fundraising class and the proceeds help us fight hunger and deliver free events in our community. At Made In Hackney we believe access to good food is a human right\, not a privilege. Every ticket you buy helps us provide essential support to individuals and families facing food insecurity. If you would like to learn more about our work and impact\, please click here. \n\n\n\n\nRefunds/transfers: Please understand our charity needs time to resell your tickets as we rely heavily on the income generated by our fundraising classes. We require a minimum of 14 days’ notice for any cancellations or transfers once you have booked onto a class. You are also welcome to give your ticket to a friend or family member in case of last minute illness (just email classes@madeinhackney.org to let us know). \nVouchers: If you need assistance to redeem a voucher purchased on our website\, please contact us via email: classes@madeinhackney.org. \nWe’ve Published Our Debut Cookbook — We Cook Plants! Based on 12 years of experience as a pioneering vegan community cookery school\, it offers practical\, inclusive\, and delicious plant-based recipes with creative solutions to real-life challenges like cost\, access\, and time. 👉 Buy Our Debut Cookbook – We Cook Plants and support our mission to make healthy\, sustainable food accessible to all. \nFor information: classes@madeinhackney.org / 020 8442 4266 / WhatsApp message +44 07833685894
URL:https://madeinhackney.org/event/masterclass-plant-based-caribbean-cuisine/
LOCATION:Liberty Hall\, 128 Clapton Common\, Spring Hill\, Clapton\, London\, E5 9AA\, United Kingdom
CATEGORIES:Masterclasses
ATTACH;FMTTYPE=image/png:https://madeinhackney.org/wp-content/uploads/2026/01/Website-30.png
END:VEVENT
END:VCALENDAR